BEGIN:VCALENDAR
VERSION:2.0
PRODID:-//Hidden Press • Handmade Block Prints • Illustrations - ECPv6.15.13//NONSGML v1.0//EN
CALSCALE:GREGORIAN
METHOD:PUBLISH
X-WR-CALNAME:Hidden Press • Handmade Block Prints • Illustrations
X-ORIGINAL-URL:https://hidden.press
X-WR-CALDESC:Events for Hidden Press • Handmade Block Prints • Illustrations
REFRESH-INTERVAL;VALUE=DURATION:PT1H
X-Robots-Tag:noindex
X-PUBLISHED-TTL:PT1H
BEGIN:VTIMEZONE
TZID:America/New_York
BEGIN:DAYLIGHT
TZOFFSETFROM:-0500
TZOFFSETTO:-0400
TZNAME:EDT
DTSTART:20230312T070000
END:DAYLIGHT
BEGIN:STANDARD
TZOFFSETFROM:-0400
TZOFFSETTO:-0500
TZNAME:EST
DTSTART:20231105T060000
END:STANDARD
BEGIN:DAYLIGHT
TZOFFSETFROM:-0500
TZOFFSETTO:-0400
TZNAME:EDT
DTSTART:20240310T070000
END:DAYLIGHT
BEGIN:STANDARD
TZOFFSETFROM:-0400
TZOFFSETTO:-0500
TZNAME:EST
DTSTART:20241103T060000
END:STANDARD
BEGIN:DAYLIGHT
TZOFFSETFROM:-0500
TZOFFSETTO:-0400
TZNAME:EDT
DTSTART:20250309T070000
END:DAYLIGHT
BEGIN:STANDARD
TZOFFSETFROM:-0400
TZOFFSETTO:-0500
TZNAME:EST
DTSTART:20251102T060000
END:STANDARD
BEGIN:DAYLIGHT
TZOFFSETFROM:-0500
TZOFFSETTO:-0400
TZNAME:EDT
DTSTART:20260308T070000
END:DAYLIGHT
BEGIN:STANDARD
TZOFFSETFROM:-0400
TZOFFSETTO:-0500
TZNAME:EST
DTSTART:20261101T060000
END:STANDARD
END:VTIMEZONE
BEGIN:VEVENT
DTSTART;TZID=America/New_York:20251213T170000
DTEND;TZID=America/New_York:20251213T210000
DTSTAMP:20260423T203100
CREATED:20250512T143724Z
LAST-MODIFIED:20250512T143724Z
UID:564-1765645200-1765659600@hidden.press
SUMMARY:Holiday Marketplaces at Farm Fresh RI
DESCRIPTION:
URL:https://hidden.press/event/holiday-marketplaces-at-farm-fresh-ri/
LOCATION:FarmFresh RI\, 30 Sims Ave\, Providence\, RI\, 02909\, United States
END:VEVENT
BEGIN:VEVENT
DTSTART;TZID=America/New_York:20250726T110000
DTEND;TZID=America/New_York:20250726T150000
DTSTAMP:20260423T203100
CREATED:20250512T143513Z
LAST-MODIFIED:20250512T143513Z
UID:561-1753527600-1753542000@hidden.press
SUMMARY:FringePVD Festival Marketplace
DESCRIPTION:
URL:https://hidden.press/event/fringepvd-festival-marketplace/
LOCATION:Sims Ave\, Sims Ave\, Providence\, RI\, 02909\, United States
END:VEVENT
BEGIN:VEVENT
DTSTART;TZID=America/New_York:20250622T130000
DTEND;TZID=America/New_York:20250622T180000
DTSTAMP:20260423T203100
CREATED:20250512T142938Z
LAST-MODIFIED:20250512T143018Z
UID:557-1750597200-1750615200@hidden.press
SUMMARY:Pride Festival Marketplace
DESCRIPTION:This Event will take place in Downtown Providence\, Rhode Island\, as part of the 2025 Pride Festival – exact location TBA.
URL:https://hidden.press/event/pride-festival-marketplace/
LOCATION:RI
END:VEVENT
BEGIN:VEVENT
DTSTART;TZID=America/New_York:20241221T170000
DTEND;TZID=America/New_York:20241221T210000
DTSTAMP:20260423T203100
CREATED:20241112T220816Z
LAST-MODIFIED:20241112T220816Z
UID:549-1734800400-1734814800@hidden.press
SUMMARY:Haus of Codec Holiday Marketplace
DESCRIPTION:
URL:https://hidden.press/event/haus-of-codec-holiday-marketplace/
LOCATION:FarmFresh RI\, 30 Sims Ave\, Providence\, RI\, 02909\, United States
END:VEVENT
BEGIN:VEVENT
DTSTART;TZID=America/New_York:20241116T160000
DTEND;TZID=America/New_York:20241116T200000
DTSTAMP:20260423T203100
CREATED:20241112T202329Z
LAST-MODIFIED:20241112T202329Z
UID:505-1731772800-1731787200@hidden.press
SUMMARY:The Marketplace @ FarmFresh RI
DESCRIPTION:
URL:https://hidden.press/event/the-marketplace-farmfresh-ri/
LOCATION:FarmFresh RI\, 30 Sims Ave\, Providence\, RI\, 02909\, United States
END:VEVENT
END:VCALENDAR